BEGIN:VCALENDAR
VERSION:2.0
PRODID:icalendar-ruby
CALSCALE:GREGORIAN
METHOD:PUBLISH
BEGIN:VEVENT
DTSTAMP:20260424T090153Z
UID:9-832663@faithlife232.tithelysetup5.com
DTSTART:20261011T140000Z
DTEND:20261011T150000Z
CLASS:PUBLIC
CREATED:20260423T221004
DESCRIPTION:Sunday Worship
LAST-MODIFIED:20260423T221004
LOCATION:Faith Life Church
SUMMARY:Sunday Worship
URL;VALUE=URI:https://thefaithlife.org/events/sunday-worship--8/2026-10-11
END:VEVENT
END:VCALENDAR
