BEGIN:VCALENDAR
VERSION:2.0
PRODID:icalendar-ruby
CALSCALE:GREGORIAN
METHOD:PUBLISH
BEGIN:VEVENT
DTSTAMP:20260424T102247Z
UID:9-832664@faithlife232.tithelysetup5.com
DTSTART:20261018T140000Z
DTEND:20261018T150000Z
CLASS:PUBLIC
CREATED:20260423T221004
DESCRIPTION:Sunday Worship
LAST-MODIFIED:20260423T221004
LOCATION:Faith Life Church
SUMMARY:Sunday Worship
URL;VALUE=URI:https://thefaithlife.org/events/sunday-worship--8/2026-10-18
END:VEVENT
END:VCALENDAR
