BEGIN:VCALENDAR
VERSION:2.0
PRODID:icalendar-ruby
CALSCALE:GREGORIAN
METHOD:PUBLISH
BEGIN:VEVENT
DTSTAMP:20260424T124702Z
UID:9-833033@faithlife232.tithelysetup5.com
DTSTART:20261101T150000Z
DTEND:20261101T160000Z
CLASS:PUBLIC
CREATED:20260424T073825
DESCRIPTION:Sunday Worship
LAST-MODIFIED:20260424T073825
LOCATION:Faith Life Church
SUMMARY:Sunday Worship
URL;VALUE=URI:https://thefaithlife.org/events/sunday-worship--8/2026-11-01
END:VEVENT
END:VCALENDAR
